BEGIN:VCALENDAR
VERSION:2.0
PRODID:-//FishersIsland.net - ECPv6.15.20//NONSGML v1.0//EN
CALSCALE:GREGORIAN
METHOD:PUBLISH
X-WR-CALNAME:FishersIsland.net
X-ORIGINAL-URL:https://fishersisland.net
X-WR-CALDESC:Events for FishersIsland.net
REFRESH-INTERVAL;VALUE=DURATION:PT1H
X-Robots-Tag:noindex
X-PUBLISHED-TTL:PT1H
BEGIN:VTIMEZONE
TZID:America/New_York
BEGIN:DAYLIGHT
TZOFFSETFROM:-0500
TZOFFSETTO:-0400
TZNAME:EDT
DTSTART:20250309T070000
END:DAYLIGHT
BEGIN:STANDARD
TZOFFSETFROM:-0400
TZOFFSETTO:-0500
TZNAME:EST
DTSTART:20251102T060000
END:STANDARD
BEGIN:DAYLIGHT
TZOFFSETFROM:-0500
TZOFFSETTO:-0400
TZNAME:EDT
DTSTART:20260308T070000
END:DAYLIGHT
BEGIN:STANDARD
TZOFFSETFROM:-0400
TZOFFSETTO:-0500
TZNAME:EST
DTSTART:20261101T060000
END:STANDARD
BEGIN:DAYLIGHT
TZOFFSETFROM:-0500
TZOFFSETTO:-0400
TZNAME:EDT
DTSTART:20270314T070000
END:DAYLIGHT
BEGIN:STANDARD
TZOFFSETFROM:-0400
TZOFFSETTO:-0500
TZNAME:EST
DTSTART:20271107T060000
END:STANDARD
END:VTIMEZONE
BEGIN:VEVENT
DTSTART;TZID=America/New_York:20260425T100000
DTEND;TZID=America/New_York:20260425T130000
DTSTAMP:20260425T204640
CREATED:20251211T133240Z
LAST-MODIFIED:20260122T150847Z
UID:10012555-1777111200-1777122000@fishersisland.net
SUMMARY:Museum & Gift Shop Open
DESCRIPTION:During the winter\, the museum is open on Saturdays from 10 am – 1 pm\, and other times by appointment (call 631-788-7239). \nThe 2025 exhibits — The Cottage Colonies of Fishers Island\, The Longer Look: Photographs by John Wilton\, and Passages: A Public Sculpture Over Time — will remain on display through winter and spring. The 2025 annual exhibits are generously sponsored by Altus Partners. \nThe shop will be open during these new hours\, or whenever the museum is open.
URL:https://fishersisland.net/event/museum-gift-shop-open-2/2026-04-25/
LOCATION:HLF Museum
CATEGORIES:HL Ferguson Museum
ATTACH;FMTTYPE=image/jpeg:https://fishersisland.net/wp-content/uploads/2025/11/Museum-Logo-Xmas-1170x780-1.jpg
END:VEVENT
BEGIN:VEVENT
DTSTART;TZID=America/New_York:20260425T103000
DTEND;TZID=America/New_York:20260425T143000
DTSTAMP:20260425T204640
CREATED:20260403T213706Z
LAST-MODIFIED:20260403T213706Z
UID:10013560-1777113000-1777127400@fishersisland.net
SUMMARY:Ferry Freight Open
DESCRIPTION:The Ferry’s freight office on Fishers will be open Saturdays 10:30-2:30 as a customer service. \n 
URL:https://fishersisland.net/event/ferry-freight-open/2026-04-25/
LOCATION:Ferry Freight FI
CATEGORIES:Ferry District
ATTACH;FMTTYPE=image/jpeg:https://fishersisland.net/wp-content/uploads/2024/09/Ferry-Freight-FI-21JUN24_0624-1170x878-1.jpg
END:VEVENT
BEGIN:VEVENT
DTSTART;TZID=America/New_York:20260425T170000
DTEND;TZID=America/New_York:20260425T170000
DTSTAMP:20260425T204640
CREATED:20260328T200312Z
LAST-MODIFIED:20260328T203221Z
UID:10013513-1777136400-1777136400@fishersisland.net
SUMMARY:AA Meeting
DESCRIPTION:Alcoholics Anonymous is a fellowship of people who share their experience\, strength\, and hope with each other that they may solve their common problem and help others to recover from alcoholism.\n\n\nAnonymity is AA’s commitment and practice. \nFishers Island AA Meetings \nFall\, winter\, and early spring meetings are held virtually via Zoom \nTuesdays @ 6:00 PM\nSaturday @ 5:00 PM \nSummer meetings are held virtually via Zoom and in person\, occasionally at Union Chapel \nTuesdays @ 6:00 PM\nSaturdays @ 5:00 PM \nQuestions and/or Zoom Link?\nContact info@finyaa.org for virtual access
URL:https://fishersisland.net/event/aa-meeting-2/2026-04-25/
LOCATION:via Zoom
ATTACH;FMTTYPE=image/jpeg:https://fishersisland.net/wp-content/uploads/2015/06/AA-alcoholics-annonymous-logo-660x330-1.jpg
END:VEVENT
BEGIN:VEVENT
DTSTART;TZID=America/New_York:20260425T173000
DTEND;TZID=America/New_York:20260425T173000
DTSTAMP:20260425T204640
CREATED:20260321T143106Z
LAST-MODIFIED:20260407T142611Z
UID:10012847-1777138200-1777138200@fishersisland.net
SUMMARY:OLOG Mass
DESCRIPTION:This evening at 5:30 pm
URL:https://fishersisland.net/event/olog-mass-3/2026-04-25/
LOCATION:Our Lady of Grace Catholic Church\, 233 Alpine Avenue\, #425\, Fishers Island\, NY\, 06390
CATEGORIES:Our Lady of Grace Catholic Church
ATTACH;FMTTYPE=image/jpeg:https://fishersisland.net/wp-content/uploads/2017/05/OLOG-Grace-Church-Interior-JTAhrens_0003-660x330-1.jpg
END:VEVENT
BEGIN:VEVENT
DTSTART;TZID=America/New_York:20260425T180000
DTEND;TZID=America/New_York:20260425T180000
DTSTAMP:20260425T204640
CREATED:20260309T141818Z
LAST-MODIFIED:20260320T161351Z
UID:10013011-1777140000-1777140000@fishersisland.net
SUMMARY:FIFD Member Recognition Dinner
DESCRIPTION:For FIFD members and their guests. \nPlease RSVP at the firehouse by April 17 \n 
URL:https://fishersisland.net/event/fifd-member-recognition-dinner/
LOCATION:American Legion Post #1045\, Fishers Island\, NY\, 06390
CATEGORIES:Ferry District,FI Fire Department
ATTACH;FMTTYPE=image/jpeg:https://fishersisland.net/wp-content/uploads/2020/12/FIFD-SEAL-c-Rev-9-25-19-Logo-FINAL-660x330-1.jpg
END:VEVENT
BEGIN:VEVENT
DTSTART;TZID=America/New_York:20260426T100000
DTEND;TZID=America/New_York:20260426T110000
DTSTAMP:20260425T204640
CREATED:20260110T150547Z
LAST-MODIFIED:20260110T150547Z
UID:10012361-1777197600-1777201200@fishersisland.net
SUMMARY:Union Chapel Worship & Fellowship
DESCRIPTION:Sunday mornings all year long. Please join us.
URL:https://fishersisland.net/event/union-chapel-worship-fellowship/2026-04-26/
LOCATION:Union Chapel
CATEGORIES:Union Chapel Church
ATTACH;FMTTYPE=image/jpeg:https://fishersisland.net/wp-content/uploads/2019/07/Union-Chapel-spring-660x330.jpg
END:VEVENT
BEGIN:VEVENT
DTSTART;TZID=America/New_York:20260426T160000
DTEND;TZID=America/New_York:20260426T170000
DTSTAMP:20260425T204640
CREATED:20260321T125945Z
LAST-MODIFIED:20260321T125954Z
UID:10013060-1777219200-1777222800@fishersisland.net
SUMMARY:Museum Talk: Atlantic Coast Piping Plovers: 40 Years on the Road to Recovery
DESCRIPTION:Atlantic Coast Piping Plovers: 40 Years on the Road to Recovery \nSunday\, April 26 @ 4:00 pm – 5:00 pm\n(VIRTUAL ONLY via Zoom) \nJoin us for a VIRTUAL ONLY illustrated talk by wildlife biologist\, Maureen Durkin\, who will highlight the fascinating ecology and behavior of the Piping Plover – one of our most notable local shorebird species. Hear all about this charismatic little bird\, their delicate coastal habitat\, and how you can help share our beaches.
URL:https://fishersisland.net/event/museum-talk-atlantic-coast-piping-plovers-40-years-on-the-road-to-recovery/
ATTACH;FMTTYPE=image/jpeg:https://fishersisland.net/wp-content/uploads/2026/03/Museum-Piping-Plover_M-Durkin_4163-1170x780-1.jpg
END:VEVENT
BEGIN:VEVENT
DTSTART;TZID=America/New_York:20260427T160000
DTEND;TZID=America/New_York:20260427T160000
DTSTAMP:20260425T204640
CREATED:20260106T205025Z
LAST-MODIFIED:20260106T205108Z
UID:10012279-1777305600-1777305600@fishersisland.net
SUMMARY:Ferry Commissioners' Meeting
DESCRIPTION:The Fishers Island Ferry Commissioners generally meet on Mondays – every other week throughout the year.
URL:https://fishersisland.net/event/ferry-commissioners-meeting-3/2026-04-27/
LOCATION:FI Community Center\, Fishers Island\, NY
CATEGORIES:Ferry District
ATTACH;FMTTYPE=image/jpeg:https://fishersisland.net/wp-content/uploads/2018/01/Ferry-wave-Logo-1-660x235.jpg
END:VEVENT
BEGIN:VEVENT
DTSTART;TZID=America/New_York:20260427T170000
DTEND;TZID=America/New_York:20260427T170000
DTSTAMP:20260425T204640
CREATED:20260421T152242Z
LAST-MODIFIED:20260421T152242Z
UID:10013849-1777309200-1777309200@fishersisland.net
SUMMARY:OLOG Mass
DESCRIPTION:With Father Kennedy presiding
URL:https://fishersisland.net/event/olog-mass-4/2026-04-27/
LOCATION:Our Lady of Grace Catholic Church\, 233 Alpine Avenue\, #425\, Fishers Island\, NY\, 06390
CATEGORIES:Our Lady of Grace Catholic Church
ATTACH;FMTTYPE=image/jpeg:https://fishersisland.net/wp-content/uploads/2017/05/OLOG-Grace-Church-Interior-JTAhrens_0003-660x330-1.jpg
END:VEVENT
BEGIN:VEVENT
DTSTART;TZID=America/New_York:20260428T170000
DTEND;TZID=America/New_York:20260428T170000
DTSTAMP:20260425T204640
CREATED:20260421T152242Z
LAST-MODIFIED:20260421T152242Z
UID:10013850-1777395600-1777395600@fishersisland.net
SUMMARY:OLOG Mass
DESCRIPTION:With Father Kennedy presiding
URL:https://fishersisland.net/event/olog-mass-4/2026-04-28/
LOCATION:Our Lady of Grace Catholic Church\, 233 Alpine Avenue\, #425\, Fishers Island\, NY\, 06390
CATEGORIES:Our Lady of Grace Catholic Church
ATTACH;FMTTYPE=image/jpeg:https://fishersisland.net/wp-content/uploads/2017/05/OLOG-Grace-Church-Interior-JTAhrens_0003-660x330-1.jpg
END:VEVENT
BEGIN:VEVENT
DTSTART;TZID=America/New_York:20260428T180000
DTEND;TZID=America/New_York:20260428T180000
DTSTAMP:20260425T204640
CREATED:20260328T200030Z
LAST-MODIFIED:20260328T203320Z
UID:10013523-1777399200-1777399200@fishersisland.net
SUMMARY:AA Meeting
DESCRIPTION:Alcoholics Anonymous is a fellowship of people who share their experience\, strength\, and hope with each other that they may solve their common problem and help others to recover from alcoholism.\n\n\nAnonymity is AA’s commitment and practice. \nFishers Island AA Meetings \nFall\, winter\, and early spring meetings are held virtually via Zoom \nTuesdays @ 6:00 PM\nSaturday @ 5:00 PM \nSummer meetings are held virtually via Zoom and in person\, occasionally at Union Chapel \nTuesdays @ 6:00 PM\nSaturdays @ 5:00 PM \nQuestions and/or Zoom Link?\nContact info@finyaa.org for virtual access
URL:https://fishersisland.net/event/aa-meeting/2026-04-28/
LOCATION:via Zoom
ATTACH;FMTTYPE=image/jpeg:https://fishersisland.net/wp-content/uploads/2015/06/AA-alcoholics-annonymous-logo-660x330-1.jpg
END:VEVENT
BEGIN:VEVENT
DTSTART;TZID=America/New_York:20260429T100000
DTEND;TZID=America/New_York:20260429T110000
DTSTAMP:20260425T204640
CREATED:20260131T152436Z
LAST-MODIFIED:20260314T125702Z
UID:10013046-1777456800-1777460400@fishersisland.net
SUMMARY:Tots Time
DESCRIPTION:Please join us for Tots Time at Union Chapel each week.\n\n\n\nParents\, grandparents\, and toddlers are welcome to drop by to share in conversation and play time. \n\n\n\nPatti Norton\, a retired pediatric nurse\, leads this program with Pastor Rosanna. \n\n\n\nWe provide craft project materials and direction\, as well as coffee or tea and cookies. \n\n\n\nWe are shifting back to Wednesdays from 10:00 – 11:00ish in the hopes that more little ones and their caregivers can join in the morning fun.
URL:https://fishersisland.net/event/tots-time-2/2026-04-29/
LOCATION:Union Chapel
ATTACH;FMTTYPE=image/jpeg:https://fishersisland.net/wp-content/uploads/2026/01/Coffe-Heart-1170x780-1.jpg
END:VEVENT
BEGIN:VEVENT
DTSTART;TZID=America/New_York:20260429T170000
DTEND;TZID=America/New_York:20260429T170000
DTSTAMP:20260425T204640
CREATED:20260421T152242Z
LAST-MODIFIED:20260421T152242Z
UID:10013851-1777482000-1777482000@fishersisland.net
SUMMARY:OLOG Mass
DESCRIPTION:With Father Kennedy presiding
URL:https://fishersisland.net/event/olog-mass-4/2026-04-29/
LOCATION:Our Lady of Grace Catholic Church\, 233 Alpine Avenue\, #425\, Fishers Island\, NY\, 06390
CATEGORIES:Our Lady of Grace Catholic Church
ATTACH;FMTTYPE=image/jpeg:https://fishersisland.net/wp-content/uploads/2017/05/OLOG-Grace-Church-Interior-JTAhrens_0003-660x330-1.jpg
END:VEVENT
BEGIN:VEVENT
DTSTART;TZID=America/New_York:20260430T083000
DTEND;TZID=America/New_York:20260430T083000
DTSTAMP:20260425T204640
CREATED:20260421T152242Z
LAST-MODIFIED:20260421T152242Z
UID:10013852-1777537800-1777537800@fishersisland.net
SUMMARY:OLOG Mass
DESCRIPTION:With Father Kennedy presiding
URL:https://fishersisland.net/event/olog-mass-4/2026-04-30/
LOCATION:Our Lady of Grace Catholic Church\, 233 Alpine Avenue\, #425\, Fishers Island\, NY\, 06390
CATEGORIES:Our Lady of Grace Catholic Church
ATTACH;FMTTYPE=image/jpeg:https://fishersisland.net/wp-content/uploads/2017/05/OLOG-Grace-Church-Interior-JTAhrens_0003-660x330-1.jpg
END:VEVENT
END:VCALENDAR